BEGIN:VCALENDAR
VERSION:2.0
PRODID:-//South Plains Association of Governments - ECPv6.15.20//NONSGML v1.0//EN
CALSCALE:GREGORIAN
METHOD:PUBLISH
X-ORIGINAL-URL:https://www.spag.org
X-WR-CALDESC:Events for South Plains Association of Governments
REFRESH-INTERVAL;VALUE=DURATION:PT1H
X-Robots-Tag:noindex
X-PUBLISHED-TTL:PT1H
BEGIN:VTIMEZONE
TZID:America/Chicago
BEGIN:DAYLIGHT
TZOFFSETFROM:-0600
TZOFFSETTO:-0500
TZNAME:CDT
DTSTART:20250309T080000
END:DAYLIGHT
BEGIN:STANDARD
TZOFFSETFROM:-0500
TZOFFSETTO:-0600
TZNAME:CST
DTSTART:20251102T070000
END:STANDARD
BEGIN:DAYLIGHT
TZOFFSETFROM:-0600
TZOFFSETTO:-0500
TZNAME:CDT
DTSTART:20260308T080000
END:DAYLIGHT
BEGIN:STANDARD
TZOFFSETFROM:-0500
TZOFFSETTO:-0600
TZNAME:CST
DTSTART:20261101T070000
END:STANDARD
BEGIN:DAYLIGHT
TZOFFSETFROM:-0600
TZOFFSETTO:-0500
TZNAME:CDT
DTSTART:20270314T080000
END:DAYLIGHT
BEGIN:STANDARD
TZOFFSETFROM:-0500
TZOFFSETTO:-0600
TZNAME:CST
DTSTART:20271107T070000
END:STANDARD
BEGIN:DAYLIGHT
TZOFFSETFROM:-0600
TZOFFSETTO:-0500
TZNAME:CDT
DTSTART:20280312T080000
END:DAYLIGHT
BEGIN:STANDARD
TZOFFSETFROM:-0500
TZOFFSETTO:-0600
TZNAME:CST
DTSTART:20281105T070000
END:STANDARD
END:VTIMEZONE
BEGIN:VEVENT
DTSTART;TZID=America/Chicago:20260512T100000
DTEND;TZID=America/Chicago:20260512T100000
DTSTAMP:20260419T214429
CREATED:20250815T172151Z
LAST-MODIFIED:20251011T135005Z
UID:2679-1778580000-1778580000@www.spag.org
SUMMARY:Board of Directors Meeting
DESCRIPTION:
URL:https://www.spag.org/event/board-of-directors-2025-12-09/2026-05-12/
END:VEVENT
BEGIN:VEVENT
DTSTART;TZID=America/Chicago:20260609T100000
DTEND;TZID=America/Chicago:20260609T100000
DTSTAMP:20260419T214429
CREATED:20250815T172151Z
LAST-MODIFIED:20251011T135006Z
UID:2680-1780999200-1780999200@www.spag.org
SUMMARY:Board of Directors Meeting
DESCRIPTION:
URL:https://www.spag.org/event/board-of-directors-2025-12-09/2026-06-09/
END:VEVENT
BEGIN:VEVENT
DTSTART;TZID=America/Chicago:20260714T100000
DTEND;TZID=America/Chicago:20260714T100000
DTSTAMP:20260419T214429
CREATED:20250815T172151Z
LAST-MODIFIED:20251011T135007Z
UID:2681-1784023200-1784023200@www.spag.org
SUMMARY:Board of Directors Meeting
DESCRIPTION:
URL:https://www.spag.org/event/board-of-directors-2025-12-09/2026-07-14/
END:VEVENT
BEGIN:VEVENT
DTSTART;TZID=America/Chicago:20260811T100000
DTEND;TZID=America/Chicago:20260811T100000
DTSTAMP:20260419T214429
CREATED:20250815T172151Z
LAST-MODIFIED:20251011T135009Z
UID:2682-1786442400-1786442400@www.spag.org
SUMMARY:Board of Directors Meeting
DESCRIPTION:
URL:https://www.spag.org/event/board-of-directors-2025-12-09/2026-08-11/
END:VEVENT
BEGIN:VEVENT
DTSTART;TZID=America/Chicago:20260908T100000
DTEND;TZID=America/Chicago:20260908T100000
DTSTAMP:20260419T214429
CREATED:20250815T172151Z
LAST-MODIFIED:20251011T135010Z
UID:2695-1788861600-1788861600@www.spag.org
SUMMARY:Board of Directors Meeting
DESCRIPTION:
URL:https://www.spag.org/event/board-of-directors-2025-12-09/2026-09-08/
END:VEVENT
BEGIN:VEVENT
DTSTART;TZID=America/Chicago:20261013T100000
DTEND;TZID=America/Chicago:20261013T100000
DTSTAMP:20260419T214429
CREATED:20250815T172151Z
LAST-MODIFIED:20251011T135011Z
UID:2696-1791885600-1791885600@www.spag.org
SUMMARY:Board of Directors Meeting
DESCRIPTION:
URL:https://www.spag.org/event/board-of-directors-2025-12-09/2026-10-13/
END:VEVENT
BEGIN:VEVENT
DTSTART;TZID=America/Chicago:20261110T100000
DTEND;TZID=America/Chicago:20261110T100000
DTSTAMP:20260419T214429
CREATED:20250815T172151Z
LAST-MODIFIED:20251011T135012Z
UID:2697-1794304800-1794304800@www.spag.org
SUMMARY:Board of Directors Meeting
DESCRIPTION:
URL:https://www.spag.org/event/board-of-directors-2025-12-09/2026-11-10/
END:VEVENT
BEGIN:VEVENT
DTSTART;TZID=America/Chicago:20261208T100000
DTEND;TZID=America/Chicago:20261208T100000
DTSTAMP:20260419T214429
CREATED:20250815T172151Z
LAST-MODIFIED:20251011T135014Z
UID:2698-1796724000-1796724000@www.spag.org
SUMMARY:Board of Directors Meeting
DESCRIPTION:
URL:https://www.spag.org/event/board-of-directors-2025-12-09/2026-12-08/
END:VEVENT
BEGIN:VEVENT
DTSTART;TZID=America/Chicago:20270112T100000
DTEND;TZID=America/Chicago:20270112T100000
DTSTAMP:20260419T214429
CREATED:20250815T172151Z
LAST-MODIFIED:20251011T135015Z
UID:2699-1799748000-1799748000@www.spag.org
SUMMARY:Board of Directors Meeting
DESCRIPTION:
URL:https://www.spag.org/event/board-of-directors-2025-12-09/2027-01-12/
END:VEVENT
BEGIN:VEVENT
DTSTART;TZID=America/Chicago:20270209T100000
DTEND;TZID=America/Chicago:20270209T100000
DTSTAMP:20260419T214429
CREATED:20250815T172151Z
LAST-MODIFIED:20251011T135016Z
UID:2701-1802167200-1802167200@www.spag.org
SUMMARY:Board of Directors Meeting
DESCRIPTION:
URL:https://www.spag.org/event/board-of-directors-2025-12-09/2027-02-09/
END:VEVENT
BEGIN:VEVENT
DTSTART;TZID=America/Chicago:20270309T100000
DTEND;TZID=America/Chicago:20270309T100000
DTSTAMP:20260419T214429
CREATED:20250815T172151Z
LAST-MODIFIED:20251011T135017Z
UID:2702-1804586400-1804586400@www.spag.org
SUMMARY:Board of Directors Meeting
DESCRIPTION:
URL:https://www.spag.org/event/board-of-directors-2025-12-09/2027-03-09/
END:VEVENT
BEGIN:VEVENT
DTSTART;TZID=America/Chicago:20270413T100000
DTEND;TZID=America/Chicago:20270413T100000
DTSTAMP:20260419T214429
CREATED:20250815T172151Z
LAST-MODIFIED:20251011T135018Z
UID:2703-1807610400-1807610400@www.spag.org
SUMMARY:Board of Directors Meeting
DESCRIPTION:
URL:https://www.spag.org/event/board-of-directors-2025-12-09/2027-04-13/
END:VEVENT
BEGIN:VEVENT
DTSTART;TZID=America/Chicago:20270511T100000
DTEND;TZID=America/Chicago:20270511T100000
DTSTAMP:20260419T214429
CREATED:20250815T172151Z
LAST-MODIFIED:20251011T135019Z
UID:2704-1810029600-1810029600@www.spag.org
SUMMARY:Board of Directors Meeting
DESCRIPTION:
URL:https://www.spag.org/event/board-of-directors-2025-12-09/2027-05-11/
END:VEVENT
BEGIN:VEVENT
DTSTART;TZID=America/Chicago:20270608T100000
DTEND;TZID=America/Chicago:20270608T100000
DTSTAMP:20260419T214429
CREATED:20250815T172151Z
LAST-MODIFIED:20251011T135020Z
UID:2705-1812448800-1812448800@www.spag.org
SUMMARY:Board of Directors Meeting
DESCRIPTION:
URL:https://www.spag.org/event/board-of-directors-2025-12-09/2027-06-08/
END:VEVENT
BEGIN:VEVENT
DTSTART;TZID=America/Chicago:20270713T100000
DTEND;TZID=America/Chicago:20270713T100000
DTSTAMP:20260419T214429
CREATED:20250815T172151Z
LAST-MODIFIED:20251011T135022Z
UID:2706-1815472800-1815472800@www.spag.org
SUMMARY:Board of Directors Meeting
DESCRIPTION:
URL:https://www.spag.org/event/board-of-directors-2025-12-09/2027-07-13/
END:VEVENT
BEGIN:VEVENT
DTSTART;TZID=America/Chicago:20270810T100000
DTEND;TZID=America/Chicago:20270810T100000
DTSTAMP:20260419T214429
CREATED:20250815T172151Z
LAST-MODIFIED:20251011T135023Z
UID:2707-1817892000-1817892000@www.spag.org
SUMMARY:Board of Directors Meeting
DESCRIPTION:
URL:https://www.spag.org/event/board-of-directors-2025-12-09/2027-08-10/
END:VEVENT
BEGIN:VEVENT
DTSTART;TZID=America/Chicago:20270914T100000
DTEND;TZID=America/Chicago:20270914T100000
DTSTAMP:20260419T214429
CREATED:20250815T172151Z
LAST-MODIFIED:20251011T135024Z
UID:2730-1820916000-1820916000@www.spag.org
SUMMARY:Board of Directors Meeting
DESCRIPTION:
URL:https://www.spag.org/event/board-of-directors-2025-12-09/2027-09-14/
END:VEVENT
BEGIN:VEVENT
DTSTART;TZID=America/Chicago:20271012T100000
DTEND;TZID=America/Chicago:20271012T100000
DTSTAMP:20260419T214429
CREATED:20250815T172151Z
LAST-MODIFIED:20250815T172151Z
UID:2817-1823335200-1823335200@www.spag.org
SUMMARY:Board of Directors Meeting
DESCRIPTION:
URL:https://www.spag.org/event/board-of-directors-2025-12-09/2027-10-12/
END:VEVENT
BEGIN:VEVENT
DTSTART;TZID=America/Chicago:20271109T100000
DTEND;TZID=America/Chicago:20271109T100000
DTSTAMP:20260419T214429
CREATED:20250815T172151Z
LAST-MODIFIED:20250815T172151Z
UID:2852-1825754400-1825754400@www.spag.org
SUMMARY:Board of Directors Meeting
DESCRIPTION:
URL:https://www.spag.org/event/board-of-directors-2025-12-09/2027-11-09/
END:VEVENT
BEGIN:VEVENT
DTSTART;TZID=America/Chicago:20271214T100000
DTEND;TZID=America/Chicago:20271214T100000
DTSTAMP:20260419T214429
CREATED:20250815T172151Z
LAST-MODIFIED:20250815T172151Z
UID:2940-1828778400-1828778400@www.spag.org
SUMMARY:Board of Directors Meeting
DESCRIPTION:
URL:https://www.spag.org/event/board-of-directors-2025-12-09/2027-12-14/
END:VEVENT
END:VCALENDAR