BEGIN:VCALENDAR
VERSION:2.0
PRODID:-//South Plains Association of Governments - ECPv6.15.20//NONSGML v1.0//EN
CALSCALE:GREGORIAN
METHOD:PUBLISH
X-ORIGINAL-URL:https://www.spag.org
X-WR-CALDESC:Events for South Plains Association of Governments
REFRESH-INTERVAL;VALUE=DURATION:PT1H
X-Robots-Tag:noindex
X-PUBLISHED-TTL:PT1H
BEGIN:VTIMEZONE
TZID:UTC
BEGIN:STANDARD
TZOFFSETFROM:+0000
TZOFFSETTO:+0000
TZNAME:UTC
DTSTART:20220101T000000
END:STANDARD
END:VTIMEZONE
BEGIN:VEVENT
DTSTART;TZID=UTC:20231114T093000
DTEND;TZID=UTC:20231114T100000
DTSTAMP:20260422T002220
CREATED:20221220T034912Z
LAST-MODIFIED:20221220T034912Z
UID:1246-1699954200-1699956000@www.spag.org
SUMMARY:Executive Committee Meeting
DESCRIPTION:
URL:https://www.spag.org/event/executive-committee-meeting-2/
END:VEVENT
BEGIN:VEVENT
DTSTART;TZID=UTC:20231114T100000
DTEND;TZID=UTC:20231114T113000
DTSTAMP:20260422T002220
CREATED:20221220T023304Z
LAST-MODIFIED:20221220T035006Z
UID:1217-1699956000-1699961400@www.spag.org
SUMMARY:Board of Directors Meeting
DESCRIPTION:
URL:https://www.spag.org/event/board-of-directors-meeting-10/
END:VEVENT
END:VCALENDAR